Package: SubCellBarCode Version: 1.16.0 Command: rm -rf SubCellBarCode.buildbin-libdir && mkdir SubCellBarCode.buildbin-libdir && /Users/biocbuild/BBS/utils/build-universal.sh SubCellBarCode_1.16.0.tar.gz /Library/Frameworks/R.framework/Resources/bin/R SubCellBarCode.buildbin-libdir StartedAt: 2023-10-16 10:19:05 -0400 (Mon, 16 Oct 2023) EndedAt: 2023-10-16 10:20:24 -0400 (Mon, 16 Oct 2023) EllapsedTime: 78.7 seconds RetCode: 0 Status: OK PackageFile: SubCellBarCode_1.16.0.tgz PackageFileSize: 2.617 MiB