Package: StructuralVariantAnnotation Version: 1.16.0 Command: rm -rf StructuralVariantAnnotation.buildbin-libdir && mkdir StructuralVariantAnnotation.buildbin-libdir && F:\biocbuild\bbs-3.17-bioc\R\bin\R.exe CMD INSTALL --build --library=StructuralVariantAnnotation.buildbin-libdir StructuralVariantAnnotation_1.16.0.tar.gz StartedAt: 2023-10-16 09:37:10 -0400 (Mon, 16 Oct 2023) EndedAt: 2023-10-16 09:38:00 -0400 (Mon, 16 Oct 2023) EllapsedTime: 50.7 seconds RetCode: 0 Status: OK PackageFile: StructuralVariantAnnotation_1.16.0.zip PackageFileSize: 818.8 KiB