Package: StructuralVariantAnnotation Version: 1.16.0 Command: rm -rf StructuralVariantAnnotation.buildbin-libdir && mkdir StructuralVariantAnnotation.buildbin-libdir && /Users/biocbuild/BBS/utils/build-universal.sh StructuralVariantAnnotation_1.16.0.tar.gz /Library/Frameworks/R.framework/Resources/bin/R StructuralVariantAnnotation.buildbin-libdir StartedAt: 2023-10-16 10:19:04 -0400 (Mon, 16 Oct 2023) EndedAt: 2023-10-16 10:21:15 -0400 (Mon, 16 Oct 2023) EllapsedTime: 130.5 seconds RetCode: 0 Status: OK PackageFile: StructuralVariantAnnotation_1.16.0.tgz PackageFileSize: 929.7 KiB