Package: SplicingFactory Version: 1.8.0 Command: /home/biocbuild/bbs-3.17-bioc/R/bin/R CMD build --keep-empty-dirs --no-resave-data SplicingFactory StartedAt: 2023-10-15 18:39:16 -0400 (Sun, 15 Oct 2023) EndedAt: 2023-10-15 18:39:47 -0400 (Sun, 15 Oct 2023) EllapsedTime: 31.3 seconds RetCode: 0 Status: OK PackageFile: SplicingFactory_1.8.0.tar.gz PackageFileSize: 722.6 KiB