Package: SpliceWiz Version: 1.2.3 Command: /home/biocbuild/bbs-3.17-bioc/R/bin/R CMD INSTALL SpliceWiz StartedAt: 2023-10-15 15:48:58 -0400 (Sun, 15 Oct 2023) EndedAt: 2023-10-15 15:50:53 -0400 (Sun, 15 Oct 2023) EllapsedTime: 115.9 seconds RetCode: 0 Status: OK