Package: SpatialFeatureExperiment Version: 1.2.3 Command: F:\biocbuild\bbs-3.17-bioc\R\bin\R.exe CMD INSTALL SpatialFeatureExperiment StartedAt: 2023-10-15 16:15:46 -0400 (Sun, 15 Oct 2023) EndedAt: 2023-10-15 16:17:03 -0400 (Sun, 15 Oct 2023) EllapsedTime: 77.3 seconds RetCode: 0 Status: OK