Package: SpatialFeatureExperiment Version: 1.2.3 Command: rm -rf SpatialFeatureExperiment.buildbin-libdir && mkdir SpatialFeatureExperiment.buildbin-libdir && F:\biocbuild\bbs-3.17-bioc\R\bin\R.exe CMD INSTALL --build --library=SpatialFeatureExperiment.buildbin-libdir SpatialFeatureExperiment_1.2.3.tar.gz StartedAt: 2023-10-16 09:35:15 -0400 (Mon, 16 Oct 2023) EndedAt: 2023-10-16 09:36:20 -0400 (Mon, 16 Oct 2023) EllapsedTime: 65.3 seconds RetCode: 0 Status: OK PackageFile: SpatialFeatureExperiment_1.2.3.zip PackageFileSize: 2.281 MiB