Package: SpatialFeatureExperiment Version: 1.2.3 Command: /home/biocbuild/bbs-3.17-bioc/R/bin/R CMD build --keep-empty-dirs --no-resave-data SpatialFeatureExperiment StartedAt: 2023-10-15 18:37:35 -0400 (Sun, 15 Oct 2023) EndedAt: 2023-10-15 18:39:12 -0400 (Sun, 15 Oct 2023) EllapsedTime: 97.3 seconds RetCode: 0 Status: OK PackageFile: SpatialFeatureExperiment_1.2.3.tar.gz PackageFileSize: 1.854 MiB