Package: SpatialFeatureExperiment Version: 1.2.3 Command: /Library/Frameworks/R.framework/Resources/bin/R CMD INSTALL SpatialFeatureExperiment StartedAt: 2023-10-15 15:39:08 -0400 (Sun, 15 Oct 2023) EndedAt: 2023-10-15 15:41:59 -0400 (Sun, 15 Oct 2023) EllapsedTime: 171.3 seconds RetCode: 0 Status: OK