Package: SpatialFeatureExperiment Version: 1.2.3 Command: rm -rf SpatialFeatureExperiment.buildbin-libdir && mkdir SpatialFeatureExperiment.buildbin-libdir && /Users/biocbuild/BBS/utils/build-universal.sh SpatialFeatureExperiment_1.2.3.tar.gz /Library/Frameworks/R.framework/Resources/bin/R SpatialFeatureExperiment.buildbin-libdir StartedAt: 2023-08-30 10:27:26 -0400 (Wed, 30 Aug 2023) EndedAt: 2023-08-30 10:30:28 -0400 (Wed, 30 Aug 2023) EllapsedTime: 182.1 seconds RetCode: 0 Status: OK PackageFile: SpatialFeatureExperiment_1.2.3.tgz PackageFileSize: 2.486 MiB