Package: SpatialCPie Version: 1.16.0 Command: /home/biocbuild/bbs-3.17-bioc/R/bin/R CMD build --keep-empty-dirs --no-resave-data SpatialCPie StartedAt: 2023-10-15 18:37:28 -0400 (Sun, 15 Oct 2023) EndedAt: 2023-10-15 18:38:12 -0400 (Sun, 15 Oct 2023) EllapsedTime: 44.8 seconds RetCode: 0 Status: OK PackageFile: SpatialCPie_1.16.0.tar.gz PackageFileSize: 990.4 KiB