Package: SparseSignatures Version: 2.10.0 Command: /home/biocbuild/bbs-3.17-bioc/R/bin/R CMD build --keep-empty-dirs --no-resave-data SparseSignatures StartedAt: 2023-10-15 18:37:20 -0400 (Sun, 15 Oct 2023) EndedAt: 2023-10-15 18:40:56 -0400 (Sun, 15 Oct 2023) EllapsedTime: 215.9 seconds RetCode: 0 Status: OK PackageFile: SparseSignatures_2.10.0.tar.gz PackageFileSize: 1.432 MiB