Package: SomaticSignatures Version: 2.36.0 Command: rm -rf SomaticSignatures.buildbin-libdir && mkdir SomaticSignatures.buildbin-libdir && /Users/biocbuild/BBS/utils/build-universal.sh SomaticSignatures_2.36.0.tar.gz /Library/Frameworks/R.framework/Resources/bin/R SomaticSignatures.buildbin-libdir StartedAt: 2023-10-16 10:15:55 -0400 (Mon, 16 Oct 2023) EndedAt: 2023-10-16 10:19:05 -0400 (Mon, 16 Oct 2023) EllapsedTime: 190.0 seconds RetCode: 0 Status: OK PackageFile: SomaticSignatures_2.36.0.tgz PackageFileSize: 2.828 MiB