Package: SimBindProfiles Version: 1.38.0 Command: /home/biocbuild/bbs-3.17-bioc/R/bin/R CMD build --keep-empty-dirs --no-resave-data SimBindProfiles StartedAt: 2023-10-15 18:33:13 -0400 (Sun, 15 Oct 2023) EndedAt: 2023-10-15 18:33:50 -0400 (Sun, 15 Oct 2023) EllapsedTime: 37.1 seconds RetCode: 0 Status: OK PackageFile: SimBindProfiles_1.38.0.tar.gz PackageFileSize: 1.712 MiB