Package: SeqArray Version: 1.40.1 Command: /Library/Frameworks/R.framework/Resources/bin/R CMD build --keep-empty-dirs --no-resave-data SeqArray StartedAt: 2023-10-15 21:15:08 -0400 (Sun, 15 Oct 2023) EndedAt: 2023-10-15 21:21:10 -0400 (Sun, 15 Oct 2023) EllapsedTime: 362.3 seconds RetCode: 0 Status: OK PackageFile: SeqArray_1.40.1.tar.gz PackageFileSize: 3.433 MiB