Package: ScaledMatrix Version: 1.8.1 Command: /home/biocbuild/bbs-3.17-bioc/R/bin/R CMD INSTALL ScaledMatrix StartedAt: 2023-10-15 15:11:34 -0400 (Sun, 15 Oct 2023) EndedAt: 2023-10-15 15:11:50 -0400 (Sun, 15 Oct 2023) EllapsedTime: 15.4 seconds RetCode: 0 Status: OK