Package: ScaledMatrix Version: 1.8.1 Command: /home/biocbuild/bbs-3.17-bioc/R/bin/R CMD build --keep-empty-dirs --no-resave-data ScaledMatrix StartedAt: 2023-10-15 18:21:15 -0400 (Sun, 15 Oct 2023) EndedAt: 2023-10-15 18:23:57 -0400 (Sun, 15 Oct 2023) EllapsedTime: 162.3 seconds RetCode: 0 Status: OK PackageFile: ScaledMatrix_1.8.1.tar.gz PackageFileSize: 305.8 KiB