Package: Scale4C Version: 1.22.0 Command: /home/biocbuild/bbs-3.17-bioc/R/bin/R CMD INSTALL Scale4C StartedAt: 2023-10-15 15:16:02 -0400 (Sun, 15 Oct 2023) EndedAt: 2023-10-15 15:16:30 -0400 (Sun, 15 Oct 2023) EllapsedTime: 28.6 seconds RetCode: 0 Status: OK