Package: STdeconvolve Version: 1.4.0 Command: /home/biocbuild/bbs-3.17-bioc/R/bin/R CMD build --keep-empty-dirs --no-resave-data STdeconvolve StartedAt: 2023-10-15 18:42:46 -0400 (Sun, 15 Oct 2023) EndedAt: 2023-10-15 18:44:23 -0400 (Sun, 15 Oct 2023) EllapsedTime: 97.7 seconds RetCode: 0 Status: OK PackageFile: STdeconvolve_1.4.0.tar.gz PackageFileSize: 2.642 MiB