Package: STdeconvolve Version: 1.4.0 Command: /Library/Frameworks/R.framework/Resources/bin/R CMD build --keep-empty-dirs --no-resave-data STdeconvolve StartedAt: 2023-10-15 21:43:21 -0400 (Sun, 15 Oct 2023) EndedAt: 2023-10-15 21:46:48 -0400 (Sun, 15 Oct 2023) EllapsedTime: 207.3 seconds RetCode: 0 Status: OK PackageFile: STdeconvolve_1.4.0.tar.gz PackageFileSize: 2.688 MiB