Package: STdeconvolve Version: 1.4.0 Command: rm -rf STdeconvolve.buildbin-libdir && mkdir STdeconvolve.buildbin-libdir && /Users/biocbuild/BBS/utils/build-universal.sh STdeconvolve_1.4.0.tar.gz /Library/Frameworks/R.framework/Resources/bin/R STdeconvolve.buildbin-libdir StartedAt: 2023-10-16 10:18:40 -0400 (Mon, 16 Oct 2023) EndedAt: 2023-10-16 10:19:01 -0400 (Mon, 16 Oct 2023) EllapsedTime: 21.0 seconds RetCode: 0 Status: OK PackageFile: STdeconvolve_1.4.0.tgz PackageFileSize: 2.761 MiB