Package: STRINGdb Version: 2.12.1 Command: /home/biocbuild/bbs-3.17-bioc/R/bin/R CMD INSTALL STRINGdb StartedAt: 2023-10-15 15:15:51 -0400 (Sun, 15 Oct 2023) EndedAt: 2023-10-15 15:15:56 -0400 (Sun, 15 Oct 2023) EllapsedTime: 4.5 seconds RetCode: 0 Status: OK