Package: STRINGdb Version: 2.12.1 Command: /home/biocbuild/bbs-3.17-bioc/R/bin/R CMD build --keep-empty-dirs --no-resave-data STRINGdb StartedAt: 2023-10-15 18:43:26 -0400 (Sun, 15 Oct 2023) EndedAt: 2023-10-15 18:47:21 -0400 (Sun, 15 Oct 2023) EllapsedTime: 235.1 seconds RetCode: 0 Status: OK PackageFile: STRINGdb_2.12.1.tar.gz PackageFileSize: 7.817 MiB