Package: SQLDataFrame Version: 1.14.0 Command: /home/biocbuild/bbs-3.17-bioc/R/bin/R CMD check --install=check:SQLDataFrame.install-out.txt --library=/home/biocbuild/bbs-3.17-bioc/R/site-library --timings SQLDataFrame_1.14.0.tar.gz StartedAt: 2023-10-16 01:26:20 -0400 (Mon, 16 Oct 2023) EndedAt: 2023-10-16 01:28:17 -0400 (Mon, 16 Oct 2023) EllapsedTime: 117.7 seconds RetCode: 0 Status: WARNINGS CheckDir: SQLDataFrame.Rcheck Warnings: 2