Package: SIMLR Version: 1.26.1 Command: rm -rf SIMLR.buildbin-libdir && mkdir SIMLR.buildbin-libdir && /Users/biocbuild/BBS/utils/build-universal.sh SIMLR_1.26.1.tar.gz /Library/Frameworks/R.framework/Resources/bin/R SIMLR.buildbin-libdir StartedAt: 2023-10-16 10:14:36 -0400 (Mon, 16 Oct 2023) EndedAt: 2023-10-16 10:16:29 -0400 (Mon, 16 Oct 2023) EllapsedTime: 113.0 seconds RetCode: 0 Status: OK PackageFile: SIMLR_1.26.1.tgz PackageFileSize: 4.227 MiB