Package: SIMD Version: 1.18.0 Command: /home/biocbuild/bbs-3.17-bioc/R/bin/R CMD build --keep-empty-dirs --no-resave-data SIMD StartedAt: 2023-10-15 18:33:18 -0400 (Sun, 15 Oct 2023) EndedAt: 2023-10-15 18:33:26 -0400 (Sun, 15 Oct 2023) EllapsedTime: 7.9 seconds RetCode: 0 Status: OK PackageFile: SIMD_1.18.0.tar.gz PackageFileSize: 332.8 KiB