Package: SIM Version: 1.70.0 Command: /home/biocbuild/bbs-3.17-bioc/R/bin/R CMD build --keep-empty-dirs --no-resave-data SIM StartedAt: 2023-10-15 18:33:03 -0400 (Sun, 15 Oct 2023) EndedAt: 2023-10-15 18:33:39 -0400 (Sun, 15 Oct 2023) EllapsedTime: 36.1 seconds RetCode: 0 Status: OK PackageFile: SIM_1.70.0.tar.gz PackageFileSize: 321.6 KiB