Package: SC3 Version: 1.28.3 Command: /home/biocbuild/bbs-3.17-bioc/R/bin/R CMD build --keep-empty-dirs --no-resave-data SC3 StartedAt: 2023-10-15 18:21:07 -0400 (Sun, 15 Oct 2023) EndedAt: 2023-10-15 18:27:48 -0400 (Sun, 15 Oct 2023) EllapsedTime: 400.9 seconds RetCode: 0 Status: OK PackageFile: SC3_1.28.3.tar.gz PackageFileSize: 3.183 MiB