Package: SC3 Version: 1.28.3 Command: /Library/Frameworks/R.framework/Resources/bin/R CMD INSTALL SC3 StartedAt: 2023-10-15 15:45:55 -0400 (Sun, 15 Oct 2023) EndedAt: 2023-10-15 15:48:19 -0400 (Sun, 15 Oct 2023) EllapsedTime: 143.6 seconds RetCode: 0 Status: OK