Package: SC3 Version: 1.28.3 Command: /Library/Frameworks/R.framework/Resources/bin/R CMD build --keep-empty-dirs --no-resave-data SC3 StartedAt: 2023-10-15 20:56:20 -0400 (Sun, 15 Oct 2023) EndedAt: 2023-10-15 21:14:53 -0400 (Sun, 15 Oct 2023) EllapsedTime: 1112.5 seconds RetCode: 0 Status: OK PackageFile: SC3_1.28.3.tar.gz PackageFileSize: 3.224 MiB