Package: SC3 Version: 1.28.3 Command: rm -rf SC3.buildbin-libdir && mkdir SC3.buildbin-libdir && /Users/biocbuild/BBS/utils/build-universal.sh SC3_1.28.3.tar.gz /Library/Frameworks/R.framework/Resources/bin/R SC3.buildbin-libdir StartedAt: 2023-10-16 10:08:34 -0400 (Mon, 16 Oct 2023) EndedAt: 2023-10-16 10:11:18 -0400 (Mon, 16 Oct 2023) EllapsedTime: 164.5 seconds RetCode: 0 Status: OK PackageFile: SC3_1.28.3.tgz PackageFileSize: 4.494 MiB