Package: Rmmquant Version: 1.18.0 Command: /home/biocbuild/bbs-3.17-bioc/R/bin/R CMD build --keep-empty-dirs --no-resave-data Rmmquant StartedAt: 2023-10-15 18:14:46 -0400 (Sun, 15 Oct 2023) EndedAt: 2023-10-15 18:16:10 -0400 (Sun, 15 Oct 2023) EllapsedTime: 83.7 seconds RetCode: 0 Status: OK PackageFile: Rmmquant_1.18.0.tar.gz PackageFileSize: 45.03 KiB