Package: RiboProfiling Version: 1.30.0 Command: /home/biocbuild/bbs-3.17-bioc/R/bin/R CMD build --keep-empty-dirs --no-resave-data RiboProfiling StartedAt: 2023-10-15 18:12:33 -0400 (Sun, 15 Oct 2023) EndedAt: 2023-10-15 18:15:30 -0400 (Sun, 15 Oct 2023) EllapsedTime: 177.8 seconds RetCode: 0 Status: OK PackageFile: RiboProfiling_1.30.0.tar.gz PackageFileSize: 4.607 MiB