Package: Rhtslib Version: 2.2.0 Command: set _R_INSTALL_TIME_PATCHES_=no&& chmod a+r Rhtslib -R && F:\biocbuild\bbs-3.17-bioc\R\bin\R.exe CMD build --keep-empty-dirs --no-resave-data Rhtslib StartedAt: 2023-10-15 21:48:15 -0400 (Sun, 15 Oct 2023) EndedAt: 2023-10-15 21:49:43 -0400 (Sun, 15 Oct 2023) EllapsedTime: 87.7 seconds RetCode: 0 Status: OK PackageFile: Rhtslib_2.2.0.tar.gz PackageFileSize: 4.368 MiB