Package: Rhtslib Version: 2.2.0 Command: /home/biocbuild/bbs-3.17-bioc/R/bin/R CMD INSTALL Rhtslib StartedAt: 2023-10-15 15:06:48 -0400 (Sun, 15 Oct 2023) EndedAt: 2023-10-15 15:08:02 -0400 (Sun, 15 Oct 2023) EllapsedTime: 73.2 seconds RetCode: 0 Status: OK