Package: Rhtslib Version: 2.2.0 Command: /Library/Frameworks/R.framework/Resources/bin/R CMD build --keep-empty-dirs --no-resave-data Rhtslib StartedAt: 2023-10-15 20:40:56 -0400 (Sun, 15 Oct 2023) EndedAt: 2023-10-15 20:42:23 -0400 (Sun, 15 Oct 2023) EllapsedTime: 86.7 seconds RetCode: 0 Status: OK PackageFile: Rhtslib_2.2.0.tar.gz PackageFileSize: 4.369 MiB