Package: Rhtslib Version: 2.2.0 Command: rm -rf Rhtslib.buildbin-libdir && mkdir Rhtslib.buildbin-libdir && /Users/biocbuild/BBS/utils/build-universal.sh Rhtslib_2.2.0.tar.gz /Library/Frameworks/R.framework/Resources/bin/R Rhtslib.buildbin-libdir StartedAt: 2023-10-16 10:03:18 -0400 (Mon, 16 Oct 2023) EndedAt: 2023-10-16 10:05:03 -0400 (Mon, 16 Oct 2023) EllapsedTime: 105.3 seconds RetCode: 0 Status: OK PackageFile: Rhtslib_2.2.0.tgz PackageFileSize: 3.104 MiB