Package: Rhdf5lib Version: 1.22.1 Command: chmod a+r Rhdf5lib -R && F:\biocbuild\bbs-3.17-bioc\R\bin\R.exe CMD build --keep-empty-dirs --no-resave-data Rhdf5lib StartedAt: 2023-10-15 21:48:01 -0400 (Sun, 15 Oct 2023) EndedAt: 2023-10-15 21:48:28 -0400 (Sun, 15 Oct 2023) EllapsedTime: 27.3 seconds RetCode: 0 Status: OK PackageFile: Rhdf5lib_1.22.1.tar.gz PackageFileSize: 11.52 MiB