Package: Rhdf5lib Version: 1.22.1 Command: /Library/Frameworks/R.framework/Resources/bin/R CMD build --keep-empty-dirs --no-resave-data Rhdf5lib StartedAt: 2023-10-15 20:40:46 -0400 (Sun, 15 Oct 2023) EndedAt: 2023-10-15 20:50:24 -0400 (Sun, 15 Oct 2023) EllapsedTime: 577.9 seconds RetCode: 0 Status: OK PackageFile: Rhdf5lib_1.22.1.tar.gz PackageFileSize: 11.52 MiB