Package: Rgraphviz Version: 2.44.0 Command: /home/biocbuild/bbs-3.17-bioc/R/bin/R CMD INSTALL Rgraphviz StartedAt: 2023-10-15 15:09:02 -0400 (Sun, 15 Oct 2023) EndedAt: 2023-10-15 15:10:34 -0400 (Sun, 15 Oct 2023) EllapsedTime: 91.3 seconds RetCode: 0 Status: OK