Package: Rgraphviz Version: 2.44.0 Command: /home/biocbuild/bbs-3.17-bioc/R/bin/R CMD build --keep-empty-dirs --no-resave-data Rgraphviz StartedAt: 2023-10-15 18:11:32 -0400 (Sun, 15 Oct 2023) EndedAt: 2023-10-15 18:12:54 -0400 (Sun, 15 Oct 2023) EllapsedTime: 82.3 seconds RetCode: 0 Status: OK PackageFile: Rgraphviz_2.44.0.tar.gz PackageFileSize: 7.054 MiB