Package: Rgraphviz Version: 2.44.0 Command: /Library/Frameworks/R.framework/Resources/bin/R CMD build --keep-empty-dirs --no-resave-data Rgraphviz StartedAt: 2023-10-15 20:40:06 -0400 (Sun, 15 Oct 2023) EndedAt: 2023-10-15 20:45:13 -0400 (Sun, 15 Oct 2023) EllapsedTime: 307.0 seconds RetCode: 0 Status: OK PackageFile: Rgraphviz_2.44.0.tar.gz PackageFileSize: 7.329 MiB