Package: Rgraphviz Version: 2.44.0 Command: rm -rf Rgraphviz.buildbin-libdir && mkdir Rgraphviz.buildbin-libdir && /Users/biocbuild/BBS/utils/build-universal.sh Rgraphviz_2.44.0.tar.gz /Library/Frameworks/R.framework/Resources/bin/R Rgraphviz.buildbin-libdir StartedAt: 2023-10-16 10:02:55 -0400 (Mon, 16 Oct 2023) EndedAt: 2023-10-16 10:08:11 -0400 (Mon, 16 Oct 2023) EllapsedTime: 316.5 seconds RetCode: 0 Status: OK PackageFile: Rgraphviz_2.44.0.tgz PackageFileSize: 1.76 MiB