Package: ResidualMatrix Version: 1.10.0 Command: /Library/Frameworks/R.framework/Resources/bin/R CMD build --keep-empty-dirs --no-resave-data ResidualMatrix StartedAt: 2023-10-15 20:38:33 -0400 (Sun, 15 Oct 2023) EndedAt: 2023-10-15 20:39:54 -0400 (Sun, 15 Oct 2023) EllapsedTime: 81.1 seconds RetCode: 0 Status: OK PackageFile: ResidualMatrix_1.10.0.tar.gz PackageFileSize: 334.7 KiB