Package: ResidualMatrix Version: 1.10.0 Command: rm -rf ResidualMatrix.buildbin-libdir && mkdir ResidualMatrix.buildbin-libdir && /Users/biocbuild/BBS/utils/build-universal.sh ResidualMatrix_1.10.0.tar.gz /Library/Frameworks/R.framework/Resources/bin/R ResidualMatrix.buildbin-libdir StartedAt: 2023-10-16 10:02:07 -0400 (Mon, 16 Oct 2023) EndedAt: 2023-10-16 10:03:18 -0400 (Mon, 16 Oct 2023) EllapsedTime: 71.1 seconds RetCode: 0 Status: OK PackageFile: ResidualMatrix_1.10.0.tgz PackageFileSize: 604.3 KiB