Package: ReportingTools Version: 2.40.0 Command: /home/biocbuild/bbs-3.17-bioc/R/bin/R CMD INSTALL ReportingTools StartedAt: 2023-10-15 15:35:52 -0400 (Sun, 15 Oct 2023) EndedAt: 2023-10-15 15:36:53 -0400 (Sun, 15 Oct 2023) EllapsedTime: 61.2 seconds RetCode: 0 Status: OK