Package: ReportingTools Version: 2.39.0 Command: rm -rf ReportingTools.buildbin-libdir && mkdir ReportingTools.buildbin-libdir && /Users/biocbuild/BBS/utils/build-universal.sh ReportingTools_2.39.0.tar.gz /Library/Frameworks/R.framework/Resources/bin/R ReportingTools.buildbin-libdir StartedAt: 2023-04-04 09:52:33 -0400 (Tue, 04 Apr 2023) EndedAt: 2023-04-04 09:55:50 -0400 (Tue, 04 Apr 2023) EllapsedTime: 196.8 seconds RetCode: 0 Status: OK PackageFile: ReportingTools_2.39.0.tgz PackageFileSize: 2.011 MiB