Package: RepViz Version: 1.16.0 Command: /Library/Frameworks/R.framework/Resources/bin/R CMD INSTALL RepViz StartedAt: 2023-10-15 15:31:20 -0400 (Sun, 15 Oct 2023) EndedAt: 2023-10-15 15:32:37 -0400 (Sun, 15 Oct 2023) EllapsedTime: 77.2 seconds RetCode: 0 Status: OK