Package: RedisParam Version: 1.2.0 Command: /Library/Frameworks/R.framework/Resources/bin/R CMD build --keep-empty-dirs --no-resave-data RedisParam StartedAt: 2023-10-15 20:36:33 -0400 (Sun, 15 Oct 2023) EndedAt: 2023-10-15 20:36:49 -0400 (Sun, 15 Oct 2023) EllapsedTime: 15.2 seconds RetCode: 0 Status: OK PackageFile: RedisParam_1.2.0.tar.gz PackageFileSize: 950.4 KiB