Package: RedeR Version: 2.4.3 Command: /home/biocbuild/bbs-3.17-bioc/R/bin/R CMD INSTALL RedeR StartedAt: 2023-10-15 15:08:22 -0400 (Sun, 15 Oct 2023) EndedAt: 2023-10-15 15:08:40 -0400 (Sun, 15 Oct 2023) EllapsedTime: 17.7 seconds RetCode: 0 Status: OK